BEGIN:VCALENDAR
VERSION:2.0
CREATED:20260410T053945Z
PRODID:-//Astrana Health\, Inc./Equisolve Calendar v1.0//EN
METHOD:PUBLISH
BEGIN:VEVENT
UID:5ea8c205a39672111b917568d7e40abf
DTSTAMP:20260420T163710Z
DTSTART:20260413T000000
DTEND:20260416T000000
SUMMARY:25th Annual Needham Virtual Healthcare Conference
DESCRIPTION:25th Annual Needham Virtual Healthcare Conference\nDate: Apr 13 – Apr 16\, 2026
END:VEVENT
END:VCALENDAR
