BEGIN:VCALENDAR
VERSION:2.0
CREATED:20260421T130543Z
PRODID:-//Astrana Health\, Inc./Equisolve Calendar v1.0//EN
METHOD:PUBLISH
BEGIN:VEVENT
UID:d9aea21438312c8b58204b650415fd85
DTSTAMP:20260423T140255Z
DTSTART:20260507T213000Z
DTEND:20260507T223000Z
SUMMARY:First Quarter 2026 Financial Results Conference Call
DESCRIPTION:First Quarter 2026 Financial Results Conference Call\nDate: May 7\, 2026 5:30 pm EDT\nWebcast: https://event.choruscall.com/mediaframe/webcast.html?webcastid=HHhCPjaF
END:VEVENT
END:VCALENDAR
